BEGIN:VCALENDAR
VERSION:2.0
PRODID:-//Arise Health Studio - ECPv5.16.4//NONSGML v1.0//EN
CALSCALE:GREGORIAN
METHOD:PUBLISH
X-WR-CALNAME:Arise Health Studio
X-ORIGINAL-URL:http://arisehealthstudio.com
X-WR-CALDESC:Events for Arise Health Studio
REFRESH-INTERVAL;VALUE=DURATION:PT1H
X-Robots-Tag:noindex
X-PUBLISHED-TTL:PT1H
BEGIN:VTIMEZONE
TZID:UTC
BEGIN:STANDARD
TZOFFSETFROM:+0000
TZOFFSETTO:+0000
TZNAME:UTC
DTSTART:20200101T000000
END:STANDARD
END:VTIMEZONE
BEGIN:VEVENT
DTSTART;TZID=UTC:20200718T110000
DTEND;TZID=UTC:20200719T190000
DTSTAMP:20260422T224039
CREATED:20200701T101321Z
LAST-MODIFIED:20200701T101456Z
UID:1001-1595070000-1595185200@arisehealthstudio.com
SUMMARY:Green Market @ EmQuartier
DESCRIPTION:The Green Market @ EM Quartier\nby Creators Fair\ncollaborated with Patom Organic Living \nHelix Garden Event Space\, 5th floor.\n18th (Sat) & 19th (Sun) July 2020\n11am – 7pm \n\nSince our last event in March \, the whole world has changed so much and still going on.\nIt is an important time for our planet and all of us at the moment\,\ntherefore we consider that it is a time to make a movement for our community to go toward our concepts such as\n–Be connected between communities\,\n–Helping each other\,\n–Thinking of the environmental protection\,\n–Eating healthy etc. \nEM Quartier and Patom Organic are happy to help and collaborate with us.\nThere will be more than 50 creators with Eco minded products\, Sustainable\, Organic\, Homemade cuisine and some workshops etc.\nWe’ll start updating our creators list from next week.\nHope many of you could join us! \n皆さま、こんにちは。\n前回のクリエイターズフェア以来、世界は大きく変わり、尚今も変化の渦の中にありますが、ここバンコクでも日々の生活が大きく変わることを余儀なくされました。 \nフェア開催も、本来ならば６月半ばに夏休み前最後のフェアを企画するところでしたが、現在はホテルなどの大きなホールで大人数でのイベント開催は難しい状態であり、開催は秋以降になるかと思っていましたが、\n今回このタイミングで嬉しいコラボレーションが実現しました。 \nクリエイターズフェアのガーデンマーケット版、グリーンマーケットを、EM Quartierのご協力を受けまして、５階Helixガーデンイベントスペースで、Patom Organicとコラボレーション開催する運びとなりました。 \n今は地球全体で、より自然や環境、安全かつヘルシーな食、そしてそれらを通してコミュニティーや人と繋がることを求めている人が多くいる状況で、ここバンコクもまさに、たくさんの在住外国人コミュニティーの人達が今この時間をタイで過ごしています。\nグリーンマーケットでは、タイのローカルのコミュニティーグループはもちろん、バンコクらしく多様性あるさまざまなコミュニティーが、同じコンセプトを元に繋がれる場になればと考えています。\n当日はワークショップなども企画しています。 \n7月18日(土)\,19日(日) 11時～19時\n皆さまのお越しをお待ちしております。\n@ Emquartier – เอ็มควอเทียร์
URL:http://arisehealthstudio.com/event/green-market-emquartier/
LOCATION:EmQuartier
CATEGORIES:Health and Wellness Fair
ATTACH;FMTTYPE=image/png:http://arisehealthstudio.com/wp-content/uploads/2020/07/80214598_3408636232504049_5247101972158980064_n.png
END:VEVENT
BEGIN:VEVENT
DTSTART;VALUE=DATE:20200611
DTEND;VALUE=DATE:20200612
DTSTAMP:20260422T224039
CREATED:20200610T095435Z
LAST-MODIFIED:20200610T095435Z
UID:932-1591833600-1591919999@arisehealthstudio.com
SUMMARY:Organic Farm & Fruit Market
DESCRIPTION:ผ่อนปรนระยะที่ 3 แล้ว มาเดินตลาดออร์แกนิคกันดีกว่าค่ะ มีสินค้าที่ดีต่อสุขภาพ ปลอดสารเคมีมาให้เพื่อนๆกันใจกลางเมืองเลยทีเดียว และแน่นอน #ชาที่รักษ์ ก็จะไปเจอทุกคนที่งานนี้ด้วยนะ พร้อมหยิบเอา #ชาเตยหอม ปรับสูตรใหม่ ไปฝากกันชิมด้วยนะคะ แวะมาเจอกันนะ
URL:http://arisehealthstudio.com/event/organic-farm-fruit-market/
LOCATION:ชาที่รักษ์ ชาสมุนไพร My Little Heart Made\, 9 Phetkasem 100\, Bangkae\, 10160\, Thailand
ATTACH;FMTTYPE=image/jpeg:http://arisehealthstudio.com/wp-content/uploads/2020/06/101623005_969095960175234_3697907781496806801_o.jpg
END:VEVENT
END:VCALENDAR